BEGIN:VCALENDAR
VERSION:2.0
PRODID:-//Concho School - ECPv6.15.20//NONSGML v1.0//EN
CALSCALE:GREGORIAN
METHOD:PUBLISH
X-WR-CALNAME:Concho School
X-ORIGINAL-URL:https://conchoschool.net
X-WR-CALDESC:Events for Concho School
REFRESH-INTERVAL;VALUE=DURATION:PT1H
X-Robots-Tag:noindex
X-PUBLISHED-TTL:PT1H
BEGIN:VTIMEZONE
TZID:America/Phoenix
BEGIN:STANDARD
TZOFFSETFROM:-0700
TZOFFSETTO:-0700
TZNAME:MST
DTSTART:20250101T000000
END:STANDARD
END:VTIMEZONE
BEGIN:VEVENT
DTSTART;TZID=America/Phoenix:20260519T130000
DTEND;TZID=America/Phoenix:20260519T150000
DTSTAMP:20260422T122545
CREATED:20260331T162847Z
LAST-MODIFIED:20260331T162847Z
UID:3161-1779195600-1779202800@conchoschool.net
SUMMARY:Award Ceremonies
DESCRIPTION:1st-2nd @ 1:00 PM\n3rd-4th @ 1:45 PM\n5th-8th @ 2:15 PM
URL:https://conchoschool.net/event/award-ceremonies/
LOCATION:Concho School
END:VEVENT
END:VCALENDAR