BEGIN:VCALENDAR
VERSION:2.0
PRODID:-//Concho School - ECPv6.15.20//NONSGML v1.0//EN
CALSCALE:GREGORIAN
METHOD:PUBLISH
X-WR-CALNAME:Concho School
X-ORIGINAL-URL:https://conchoschool.net
X-WR-CALDESC:Events for Concho School
REFRESH-INTERVAL;VALUE=DURATION:PT1H
X-Robots-Tag:noindex
X-PUBLISHED-TTL:PT1H
BEGIN:VTIMEZONE
TZID:America/Phoenix
BEGIN:STANDARD
TZOFFSETFROM:-0700
TZOFFSETTO:-0700
TZNAME:MST
DTSTART:20250101T000000
END:STANDARD
END:VTIMEZONE
BEGIN:VEVENT
DTSTART;VALUE=DATE:20260514
DTEND;VALUE=DATE:20260515
DTSTAMP:20260422T122614
CREATED:20260331T161511Z
LAST-MODIFIED:20260331T161511Z
UID:3155-1778716800-1778803199@conchoschool.net
SUMMARY:Field Day
DESCRIPTION:5th through 8th grade will be having their field day.
URL:https://conchoschool.net/event/field-day/
LOCATION:Concho School
END:VEVENT
END:VCALENDAR